BEGIN:VCALENDAR
VERSION:2.0
PRODID:-//siena.org//eCatholic//EN
X-WR-TIMEZONE:LocalTZ
BEGIN:VTIMEZONE
TZID:LocalTZ
X-LIC-LOCATION:LocalTZ
BEGIN:DAYLIGHT
TZOFFSETFROM:-0700
TZOFFSETTO:-0600
TZNAME:LocalTZ
DTSTART:19700308T020000
RRULE:FREQ=YEARLY;BYMONTH=3;BYDAY=2SU
END:DAYLIGHT
BEGIN:STANDARD
TZOFFSETFROM:-0600
TZOFFSETTO:-0700
TZNAME:LocalTZ
DTSTART:19701101T020000
RRULE:FREQ=YEARLY;BYMONTH=11;BYDAY=1SU
END:STANDARD
END:VTIMEZONE
BEGIN:VEVENT
UID:3035763@siena.org
DTSTAMP:20260422T172316Z
DTSTART;VALUE=DATE:20260512
DTEND;VALUE=DATE:20260514
SUMMARY:North Platte\, NE - Diocese of Grand Island\, NE Clergy Days
END:VEVENT
BEGIN:VEVENT
UID:3069433@siena.org
DTSTAMP:20260422T172316Z
DTSTART;VALUE=DATE:20260602
DTEND;VALUE=DATE:20260604
SUMMARY:St. Paul\, AB\, Canada - Diocese of St. Paul Clergy Study Days
END:VEVENT
BEGIN:VEVENT
UID:3065042@siena.org
DTSTAMP:20260422T172316Z
DTSTART;VALUE=DATE:20260626
DTEND;VALUE=DATE:20260628
SUMMARY:Archdiocese of Melbourne\, Australia - Speaking Engagement
END:VEVENT
BEGIN:VEVENT
UID:3026762@siena.org
DTSTAMP:20260422T172316Z
DTSTART;VALUE=DATE:20260630
DTEND;VALUE=DATE:20260702
SUMMARY:Rome\, Italy - Venerable English College Clergy Study Days
END:VEVENT
BEGIN:VEVENT
UID:3017191@siena.org
DTSTAMP:20260422T172316Z
DTSTART;VALUE=DATE:20270129
DTEND;VALUE=DATE:20270130
SUMMARY:Louisville\, KY - 2027 Ursuline Education Network Conference - Spe
 aking Engagement
END:VEVENT
END:VCALENDAR
